BEGIN:VCALENDAR
VERSION:2.0
PRODID:-//Bandwagon//Gigs//EN
CALSCALE:GREGORIAN
BEGIN:VEVENT
DTSTAMP:20260419T161744Z
UID:fe44919b-b353-4465-9c08-958b71c48bdd
DTSTART;TZID=Asia/Singapore:20171115T190000
DTEND;TZID=Asia/Singapore:20171115T210000
DESCRIPTION:
LOCATION:1 Vista Exchange Green\, Singapore\, SG\, 138617
SUMMARY:Asian Dream Tour - Singapore – The Star Performing Arts Centre
URL:https://www.bandwagon.asia/gigs/asian-dream-tour-singapore-the-star-per
 forming-arts-centre
END:VEVENT
END:VCALENDAR
