BEGIN:VCALENDAR
VERSION:2.0
PRODID:-//Bandwagon//Gigs//EN
CALSCALE:GREGORIAN
BEGIN:VEVENT
DTSTAMP:20260419T161526Z
UID:a6691746-4844-428e-928f-d0479f52aadd
DTSTART;TZID=Asia/Singapore:20171125T190000
DTEND;TZID=Asia/Singapore:20171125T210000
DESCRIPTION:<p>Substance is proud to present indie darling singer songwrite
 r Christopher Owens Live In Singapore 25th Nov 2017 at Hood Bar and Caf&eac
 ute\;. This is a special intimate acoustic session.</p>\n\n<p>CHRISTOPHER O
 WENS<br />\n25th November 2017<br />\n7pm<br />\nHood Bar and Caf&eacute\;<
 /p>\n\n<p>Tickets (excluding ticketing booking fee)<br />\n$32 (early bird)
  SOLD OUT<br />\n$40 (standard)<br />\n$50 (at the door and cash only)</p>\
 n\n<p>Tickets are available at ticketbox.sg from Monday\, 25th September 9a
 m.<br />\nOnline: http://ticketbox.sg/owens</p>\n\n<p>Christopher Owens is 
 an American singer/songwriter best-known as the frontman for the now disban
 ded San-Francisco indie-rock band Girls&mdash\;and for his curious backstor
 y\, which features both a fundamentalist cult and an eccentric Texan multim
 illionaire. Since his departure from Girls\, Owens has been recording music
  independently\, attempting through his writing to confront in reflection t
 he realities of his childhood.</p>\n\n<p>Girls&#39\; sound was heavily insp
 ired by the music of the 1950s\, 1960s and 1970s\, with their sound being d
 escribed as lo-fi\, surf rock\, rock and roll\, psychedelic rock\, pop rock
 \, country rock and garage rock.</p>\n\n<p>Girls&#39\; debut full-length\, 
 Album\, was released in 2009 to critical acclaim. Its 2011 follow-up\, Fath
 er\, Son\, Holy Ghost\, was also well received.</p>\n\n<p>In 2012\, Owens a
 nnounced that he was leaving the band and would continue to record as a sol
 o artist.</p>\n\n<p>In September 2012\, it was announced by Saint Laurent P
 aris (formerly Yves Saint Laurent) that Owens would be the face of their Sp
 ring/Summer campaign\, to be shot by returning Creative Director Hedi Slima
 ne. A promotional video was released during Paris Fashion Week featuring mu
 ltiple black and white images of Owens edited to the audio of Girls&#39\; &
 quot\;Just A Song&quot\;.</p>\n\n<p>In October 2013\, Owens became the new 
 face of the H&amp\;M campaign promoting the Isabel Marant range.</p>\n\n<p>
 Owens released his debut album as a solo artist\, Lysandre\, in 2013. In 20
 14\, Owens released his second album\, A New Testament. In 2015\, Owens rel
 eased his third album\, Chrissybaby Forever.</p>\n
LOCATION:Singapore\, SG\, Bugis+ (formerly Iluma)\, 201 Victoria St\, #05-0
 7\, S188067
SUMMARY:Christopher Owens Live In Singapore
URL:https://www.bandwagon.asia/gigs/christopher-owens-live-in-singapore
END:VEVENT
END:VCALENDAR
