BEGIN:VCALENDAR
VERSION:2.0
PRODID:-//Bandwagon//Gigs//EN
CALSCALE:GREGORIAN
BEGIN:VEVENT
DTSTAMP:20260419T162447Z
UID:fe62e184-12d8-4b29-a74b-539833df9f8c
DTSTART;TZID=Asia/Singapore:20171211T200000
DTEND;TZID=Asia/Singapore:20171211T230000
DESCRIPTION:<p>LAMC Productions is beyond thrilled to announce that one of 
 the most iconic and influential groups of the 1980s\, Boy George &amp\; Cul
 ture Club will be performing in Singapore for the very first time\, with th
 e original line-up on Dec 11\, 2017 at The Star Performing Arts Centre!</p>
 \n\n<p>Culture Club is back on the road! Fans in Singapore can relive the 8
 0s as the band perform their classic new wave hits on tour.</p>\n\n<p>Ticke
 ts go on sale at 9am on 25 Sep\, 2017\, through the official ticketing agen
 t SISTIC\, at www.sistic.com.sg\, and at 10am via the SISTIC Hotline (65) 6
 348-5555 and at all SISTIC Authorised Agents.</p>\n\n<p>TICKETS: S$248*\, S
 $188*\, S$158* &amp\; S$138\, S$118*<br />\n*Excluding SISTIC Booking Fee</
 p>\n\n<p>All show info: https://www.lamcproductions.com/cultureclub</p>\n\n
 <p>Follow us on Twitter &amp\; Instagram for breaking concert news!<br />\n
 http://twitter.com/lamcproductions<br />\nhttp://instagram.com/lamcproducti
 ons</p>\n\n<p>Subscribe to our YouTube channel<br />\nhttp://www.youtube.co
 m/lamcproductions7</p>\n\n<p>Subscribe to our Newsletter<br />\nhttp://eepu
 rl.com/VvaoD</p>\n\n<p>INVITE YOUR FRIENDS TO THIS PAGE!<br />\n1. Click &#
 39\;Invite&#39\;<br />\n2. Select your friends to invite them.<br />\n3. Hi
 t &#39\;Send Invitations&#39\;</p>\n
LOCATION:1 Vista Exchange Green\, Singapore\, SG\, 138617
SUMMARY:Culture Club · Live in Singapore
URL:https://www.bandwagon.asia/gigs/culture-club-live-in-singapore
END:VEVENT
END:VCALENDAR
