BEGIN:VCALENDAR
VERSION:2.0
PRODID:-//Bandwagon//Gigs//EN
CALSCALE:GREGORIAN
BEGIN:VEVENT
DTSTAMP:20260419T161744Z
UID:659b5b9b-c94a-4e56-b1a1-687139bd6ff7
DTSTART;TZID=Asia/Singapore:20171003T200000
DESCRIPTION:<p>LAMC Productions is excited to announce that Dream Theater w
 ill be making their much anticipated return to Singapore on Oct 3\, 2017 at
  Zepp @ Big Box\, as part of their &#39\;Images\, Words &amp\; Beyond 25th 
 Anniversary tour.</p>\n\n<p>This tour will see the pioneering group celebra
 ting the 25th anniversary of their milestone &ldquo\;Images &amp\; Words.&r
 dquo\; The spectacle will contain an unparalleled live set of &ldquo\;Image
 s &amp\; Words&rdquo\; in its entirety\, along with fan favourites from the
 ir deep\, widely-acclaimed catalogue.</p>\n\n<p>Ticketing details to follow
 ! Stay tuned!</p>\n\n<p>Follow us on Twitter &amp\; Instagram for breaking 
 concert news!Pen A - S$188\, Pen B - S$148<br />\nhttp://twitter.com/lamcpr
 oductions<br />\nhttp://instagram.com/lamcproductions</p>\n\n<p>Subscribe t
 o our YouTube channel<br />\nhttp://www.youtube.com/lamcproductions7</p>\n\
 n<p>Subscribe to our Newsletter<br />\nhttp://eepurl.com/VvaoD</p>\n\n<p>IN
 VITE YOUR FRIENDS TO THIS PAGE!<br />\n1. Click &#39\;Invite&#39\;<br />\n2
 . Select your friends to invite them.<br />\n3. Hit &#39\;Send Invitations&
 #39\;</p>\n
LOCATION:1\, Venture Avenue\, Singapore\, SG\, Singapore 608521
SUMMARY:Dream Theater's Images\, Words & Beyond Tour Singapore
URL:https://www.bandwagon.asia/gigs/dream-theater-s-images-words-beyond-tou
 r-singapore
END:VEVENT
END:VCALENDAR
