BEGIN:VCALENDAR
VERSION:2.0
PRODID:-//Bandwagon//Gigs//EN
CALSCALE:GREGORIAN
BEGIN:VEVENT
DTSTAMP:20260425T163809Z
UID:4ff5873a-3963-4ef1-b93c-794e88434d4e
DTSTART;TZID=Asia/Singapore:20180208T183000
DTEND;TZID=Asia/Singapore:20180208T203000
DESCRIPTION:<p>Join local actress and singer Rebekah Sangeetha Dorai as she
  sings tunes by formidable women of musical theatre. Listen to favourites f
 rom&nbsp\;<em>Les Mis&eacute\;rables\, Funny Girl</em>&nbsp\;and many more.
 </p>\n\n<p><b>About Rebekah Sangeetha Dorai</b><br />\nRebekah Sangeetha Do
 rai is an actor\, singer and voiceover artist. Sangeetha has worked with W!
 ld Rice (<em>Boeing Boeing</em>)\, The Necessary Stage (<em>Ghostwriter</em
 >)\, CAKE Theatrical Productions (<em>Koko</em>) and Buds Theatre Company\,
  among others. She has also written and composed songs for theatrical produ
 ctions\, including Wajdi Maowad&#39\;s&nbsp\;<em>Scorched</em>\, and&nbsp\;
 <em>RAM</em>for the Asia Pacific Bureau Festival. She feels incredibly bles
 sed to work in theatre\, and desires to make this lifelong. Besides the art
 s\, Sangeetha&nbsp\;has a passion for working with youth and volunteers at 
 youth camps in her free time.</p>\n\n<p><b>About Yuliana Rumiantseva</b><br
  />\nYuliana Rumiantseva is a concert pianist\, piano teacher\, accompanist
  and chamber musician. She was born in Kharkiv (Ukraine)\, and started lear
 ning piano at the age of four. In 2000\, she was admitted to Kharkiv Second
 ary Specialised Music School for gifted children in class of Prof Svetlana 
 Zakharova. In 2011\, she enrolled to National Music Academy of Ukraine in c
 lass of Prof Yuri Kot and completed her Masters in 2016. She won major priz
 es in a number of international competitions\, such as &Uacute\;st&iacute\;
  nad Labem (1st prize)\, The chords of Khortitsa (2nd prize)\, 21 Century A
 rt (2nd prize) and many others. Yuliana regularly performs in Ukraine and a
 broad as a chamber musician and accompanist. In 2013\, she premiered the wo
 rks of Ukrainian composer Pavel Kolpakov\, and for three years\, was a memb
 er of the Musical Society for Young Musicians and Composers Sonor Continuos
 . Since 2016\, Yuliana has been living in Singapore\, performing and teachi
 ng.</p>\n
LOCATION:Singapore\, Singapore\, Singapore\, SG\, S038981
SUMMARY:Esplanade Foreword February: Rebekah Sangeetha Dorai featuring Yuli
 ana Rumiantseva
URL:https://www.bandwagon.asia/gigs/esplanade-foreword-february-rebekah-san
 geetha-dorai-featuring-yuliana-rumiantseva
END:VEVENT
END:VCALENDAR
