BEGIN:VCALENDAR
VERSION:2.0
PRODID:-//Bandwagon//Gigs//EN
CALSCALE:GREGORIAN
BEGIN:VEVENT
DTSTAMP:20260419T161557Z
UID:07ec21e6-faa6-4145-ab39-a2c1f5fabbad
DTSTART;TZID=Asia/Singapore:20171124T200000
DTEND;TZID=Asia/Singapore:20171124T220000
DESCRIPTION:<p>Secret Sounds Asia are beyond excited to present South Korea
 n indie sensations 혁오 hyukoh - Live in Singapore on Friday\, 24 November 20
 17 at Zepp@BigBox!</p>\n\n<p>HYUKOH<br />\n24 NOVEMBER 2017<br />\n8 PM<br 
 />\nZEPP@BIGBOX</p>\n\n<p>Ticket Prices (Free-Standing): SGD 98 (Advance)\,
  SGD 120 (Door)<br />\nTickets on sale now via APACTix and TicketFlap!</p>\
 n\n<p>APACTix<br />\nOnline: http://www.apactix.com/events/detail/hyukoh-20
 17<br />\nTel: +65 3158 8588<br />\nIn person: APACTix outlets listed here 
 http://www.apactix.com/services</p>\n\n<p>Ticketflap<br />\nOnline: https:/
 /www.ticketflap.com/hyukoh-sg</p>\n\n<p>---------------------</p>\n\n<p>Mee
 t HYUKOH(혁오)\, the band responsible for stirring up the Korean indie scene 
 and proudly claiming the title &#39\;Band of the New Generation&rsquo\;. Th
 e band encapsulates the essence of youth &mdash\; wild and free but also em
 pty and deserted &mdash\; not only through their music but also through the
 ir videos\, fashion and live performances. HYUKOH debuted in September 2014
  with their EP &lsquo\;20&rsquo\;\, gaining popularity solely by word-of-mo
 uth\, without any media promotion. In May 2015\, HYUKOH released their seco
 nd EP &lsquo\;22&rsquo\;\, which charted in the top 10 of Billboard&rsquo\;
 s &lsquo\;World Albums&rsquo\; chart. The band undeniably became the hottes
 t Korean indie outfit of their time\, opening for international indie acts 
 such as Mac DeMarco\, How to Dress Well and Erlend &Oslash\;ye and also pla
 ying major festivals like Seoul Jazz Festival and Ansan Valley Rock Festiva
 l. Their unstoppable rise continued\, with their 22 Year-End concert sellin
 g out in less than two minutes after tickets went on sale. This year\, HYUK
 OH are changing the game yet again with their first full-length album\, &ls
 quo\;23&rsquo\;\, released in April to rave reviews.<br />\n<br />\nFollowi
 ng a dazzling series of sellout shows in Asia and upcoming gigs across Nort
 h America\, HYUKOH will finally make their long-awaited live debut in Singa
 pore at Zepp@BigBox. See you there!</p>\n
LOCATION:1\, Venture Avenue\, Singapore\, SG\, Singapore 608521
SUMMARY:Hyukoh - Live in Singapore
URL:https://www.bandwagon.asia/gigs/hyukoh-live-in-singapore
END:VEVENT
END:VCALENDAR
