BEGIN:VCALENDAR
VERSION:2.0
PRODID:-//Bandwagon//Gigs//EN
CALSCALE:GREGORIAN
BEGIN:VEVENT
DTSTAMP:20260419T162249Z
UID:f1554c65-3026-4313-8751-1a29e2d14810
DTSTART;TZID=Asia/Singapore:20171005T220000
DTEND;TZID=Asia/Singapore:20171006T030000
DESCRIPTION:<p>5 OCT 2017<br />\nKilo Lounge Thursdays x Collective Minds p
 resent Talib Kweli (US) &ndash\; Live MC with DJ Set<br />\nSupported by JN
 R &amp\; Drem (Matteblacc)</p>\n\n<p>Brooklyn-based MC Talib Kweli earned h
 is stripes as one of the most lyrically-gifted\, socially aware and politic
 ally insightful rappers to emerge in the last 20 years.</p>\n\n<p>After nea
 rly 20 years of releasing mesmerizing music\, Talib Kweli stands as one of 
 the world&rsquo\;s most talented and most accomplished Hip Hop artists. Whe
 ther working with Mos Def as one-half of Black Star\, partnering with produ
 cer Hi-Tek for Reflection Eternal\, releasing landmark solo material or col
 laborating with Kanye West\, Pharrell Williams\, Just Blaze\, J Dilla\, or 
 Madlib\, Kweli commands attention by delivering top-tier lyricism\, craftin
 g captivating stories and showing the ability to rhyme over virtually any t
 ype of instrumental.</p>\n\n<p>In 2011\, Kweli founded Javotti Media\, whic
 h is self-defined as &ldquo\;a platform for independent thinkers and doers.
 &rdquo\; Kweli has set out to make Javotti Media (which released his 2011 a
 lbum\, Gutter Rainbows\, and is named after his paternal grandmother) into 
 a media powerhouse that releases music\, films and books.</p>\n\n<p>TIME: 1
 0PM till late<br />\nLOCATION: 21 Tanjong Pagar Road #01-02/04 S(088444)<br
  />\nTICKETING LINK: stay tuned!<br />\nTABLE BOOKINGS: call or whatsapp 98
 24 9747 / lounge@kilokitchen.com</p>\n
LOCATION:21 Tanjong Pagar Road #01-02/04\, Singapore\, SG\, 088444
SUMMARY:Kilo Lounge Thursdays x Collective Minds present Talib Kweli
URL:https://www.bandwagon.asia/gigs/kilo-lounge-thursdays-x-collective-mind
 s-present-talib-kweli
END:VEVENT
END:VCALENDAR
