BEGIN:VCALENDAR
VERSION:2.0
PRODID:-//Bandwagon//Gigs//EN
CALSCALE:GREGORIAN
BEGIN:VEVENT
DTSTAMP:20260419T161732Z
UID:bb923f38-a6a3-43cb-a59d-8f13af55e6b8
DTSTART;TZID=Asia/Singapore:20171104T200000
DTEND;TZID=Asia/Singapore:20171104T220000
DESCRIPTION:<p>Blowing away audiences around the world with their edgy a ca
 ppella sound\, MICappella is finally ready to rock out at home here in Sing
 apore!</p>\n\n<p>MICappella《You and I》Live in Concert 2017 will be the band
 &#39\;s largest solo concert in Singapore to date! Held at the Capitol Thea
 tre\, the concert has been specially curated to treat fans to an evening bu
 rsting with great energy\, taking you on a musical journey with the band ov
 er the years.</p>\n\n<p>With nothing but six voices\, expect to laugh\, cry
  and sing along to songs both familiar and new. (disclaimer: no instruments
  have been harmed in the making of this concert)</p>\n\n<p>Concert Details<
 br />\nMICappella 《You and I》Concert 2017<br />\nDate: 4 November 2017\, Sa
 turday<br />\nTime: 8pm<br />\nVenue: Capitol Theatre<br />\nTicket Prices:
  $78*\, $68*\, $48*<br />\n(*excludes booking fee)<br />\nTicketing Hotline
 : 3158 8588 or log onto www.apactix.com<br />\nTickets will also be availab
 le at All SingPost outlets\, Singapore Indoor Stadium Box Office and Scotts
  Square Level 1 Atrium\, Concierge Desk</p>\n
LOCATION:11 Stamford Rd\, Capitol Piazza\, SG\, 178884
SUMMARY:MICappella 《You and I》Live in Concert 2017
URL:https://www.bandwagon.asia/gigs/micappella-you-and-i-live-in-concert-20
 17
END:VEVENT
END:VCALENDAR
