BEGIN:VCALENDAR
VERSION:2.0
PRODID:-//Bandwagon//Gigs//EN
CALSCALE:GREGORIAN
BEGIN:VEVENT
DTSTAMP:20260419T162120Z
UID:b3d5cea4-8c70-4c73-a41f-b08602aecf48
DTSTART;TZID=Asia/Singapore:20171126T193000
DTEND;TZID=Asia/Singapore:20171126T220000
DESCRIPTION:<p>M&Oslash\; Live in Singapore<br />\nSunday 26 Nov 2017<br />
 \n7.30pm to 10pm</p>\n\n<p>Early Bird (Limited Quantity): $78*<br />\nStand
 ard: $88*<br />\nDance Buddies Package (sold in bundles of 4): $272*<br />\
 n*Prices are not inclusive of booking fees. Ticketing Terms &amp\; Conditio
 ns Apply<br />\nTickets go on sale 4 Oct\, 10am at www.upsurgeproductions.c
 om</p>\n\n<p>From genre-defying collaborations to her breakout electro-pop 
 smashes\, Danish singer and songwriter Karen Marie Aagaard &Oslash\;rsted h
 as lent vocals to chart toppers from Avicii&rsquo\;s &ldquo\;Dear Boy&rdquo
 \;\, Australian rapper Iggy Azalea &ldquo\;Beg For It&rdquo\; to Major Laze
 r and DJ Snake&rsquo\;s &ldquo\;Lean On&rdquo\;. Affectionately known as he
 r monikor M&Oslash\; \, the electro indie pop darling cites influences from
  the likes of Yeah Yeah Yeahs\, Sonic Youth\, Grimes and the Smashing Pumpk
 ins. Performing in Singapore for the first time together with a full band\,
  dance along to M&Oslash\;&rsquo\;s sultry vocals and beat-driven electropo
 p.</p>\n\n<p>Official Venue Partner: Zouk Singapore<br />\nOfficial Music C
 hannel: MTV Asia</p>\n
LOCATION:3C River Valley Road\, The Cannery\, Singapore\, SG\, 179022
SUMMARY:MØ Live in Singapore
URL:https://www.bandwagon.asia/gigs/mo-live-in-singapore
END:VEVENT
END:VCALENDAR
