BEGIN:VCALENDAR
VERSION:2.0
PRODID:-//Bandwagon//Gigs//EN
CALSCALE:GREGORIAN
BEGIN:VEVENT
DTSTAMP:20260419T161557Z
UID:06e8a64e-e0f6-42f3-bf2f-9b079fa2ae2b
DTSTART;TZID=Asia/Singapore:20171015T193000
DTEND;TZID=Asia/Singapore:20171015T213000
DESCRIPTION:<p>The 90s hard rock icon MR. BIG is heading back to Singapore 
 after three years for a one-night only performance at Kallang Theatre.<br /
 >\n<br />\nWith a career spanning nearly three decades\, the American band 
 has produced a string of chart-toppers like &ldquo\;To Be With You\,&rdquo\
 ; &ldquo\;Just Take My Heart\,&rdquo\; &ldquo\;Wild World\,&rdquo\; &ldquo\
 ;Nothing But Love\,&rdquo\; and &ldquo\;Green-Tinted Sixties Mind&rdquo\;. 
 Apart from these crowd favourites\, the band will also be playing new track
 s from their newly released ninth studio album\,&nbsp\;<em>Defying Gravity<
 /em>.<br />\n<br />\n<em>Defying Gravity</em>&nbsp\;deftly showcases the un
 ique MR. BIG blend of crunch and melody &ndash\; marked with Eric Martin&rs
 quo\;s strong vocals and complemented by the band&rsquo\;s instrumental tec
 hnical proficiency.<br />\n<br />\nOne of MR. BIG&rsquo\;s biggest selling 
 point has always been the virtuosic bandmates &ndash\; bassist Billy Sheeha
 n has collaborated with Steve Vai and David Lee Roth\; guitarist Paul Gilbe
 rt is labelled as the number one American guitarist in Japan.<br />\n<br />
 \nDespite having been diagnosed with Parkinson&rsquo\;s disease recently\, 
 drummer Pat Torpey will continue to tour with the band and play a couple of
  songs at each show. Torpey is supported by Matt Starr\, the drummer for Ac
 e Frehley (KISS).<br />\n<br />\nThe Asian leg of the tour includes Japan\,
  Korea\, Taiwan\, Philippines\, Malaysia\, and ends with Singapore as its f
 inal stop.<br />\n<br />\nKnown for their brilliant harmonies\, the band pr
 omises nothing short of great music and a good time for their upcoming show
 .<br />\n<br />\nMR. BIG Live in Singapore 2017 is promoted by Shining Ente
 rtainment Investment\, and co-promoted by Asia Arts &amp\;&nbsp\;Culture Pt
 e Ltd.</p>\n
LOCATION:Stadium Walk\, Singapore\, SG\, 397688
SUMMARY:MR. BIG LIVE IN SINGAPORE 2017
URL:https://www.bandwagon.asia/gigs/mr-big-live-in-singapore-2017
END:VEVENT
END:VCALENDAR
