BEGIN:VCALENDAR
VERSION:2.0
PRODID:-//Bandwagon//Gigs//EN
CALSCALE:GREGORIAN
BEGIN:VEVENT
DTSTAMP:20260419T161608Z
UID:14fcd863-89cf-420f-975e-a23f08011622
DTSTART;TZID=Asia/Singapore:20171028T180000
DTEND;TZID=Asia/Singapore:20171028T223000
DESCRIPTION:<p>Join us at the iconic Haw Par Villa this October as we celeb
 rate individuality and creativity at the inaugural NOISE INVASION FEST.</p>
 \n\n<p>Expect the unconventional and the strange\, with a killer line up of
  music\, art\, dance and food that deviates from the usual arts festival fo
 rmat.</p>\n\n<p>Come dressed up in your most outrageous and creative costum
 es and be prepared to #GetWeird!</p>\n\n<p>Follow us on Instagram @NoiseInv
 asionFest for laughs (and updates too).</p>\n\n<p>http://www.noiseinvasionf
 est.com/</p>\n\n<p>An initiative by National Arts Council Singapore<br />\n
 Programmed by Noise Singapore and Invasion Singapore.<br />\nSupported by M
 inistry of Culture\, Community and Youth - MCCY</p>\n
SUMMARY:Noise Invasion Festival
URL:https://www.bandwagon.asia/gigs/noise-invasion-festival
END:VEVENT
END:VCALENDAR
