BEGIN:VCALENDAR
VERSION:2.0
PRODID:-//Bandwagon//Gigs//EN
CALSCALE:GREGORIAN
BEGIN:VEVENT
DTSTAMP:20260421T022302Z
UID:b3e95f6d-39d0-42b3-9cc5-bcc8f677760d
DTSTART;TZID=Asia/Singapore:20200728T200000
DESCRIPTION:<p>Known for his delicate and airy falsetto paired beautifully 
 with instrumental accompaniments\, Welsh singer-songwriter Novo Amor (aka A
 li Lacey) promises an unmissable evening &mdash\; &ldquo\;one of trembling\
 , spectral beauty&rdquo\; (<em>MOJO</em>).</p>\n\n<p>Be transported to a sp
 ace filled with Novo Amor&rsquo\;s beautiful soundscapes\, as Lacey perform
 s with frequent collaborator Ed Tullett\, backed by a full band featuring s
 trings\, keys\, guitars and drums. Producing music since 2012\, Lacey has b
 een winning over fans with his soulful sound and minimalist lyrics.</p>\n
LOCATION:1 Esplanade Drive\, Singapore\, SG\, 038981
SUMMARY:Novo Amor in Singapore
URL:https://www.bandwagon.asia/gigs/novo-amor-in-singapore
END:VEVENT
END:VCALENDAR
