BEGIN:VCALENDAR
VERSION:2.0
PRODID:-//Bandwagon//Gigs//EN
CALSCALE:GREGORIAN
BEGIN:VEVENT
DTSTAMP:20260419T162350Z
UID:ae5e30a2-8644-41fa-81c1-eebbc8a59c9a
DTSTART;TZID=Asia/Singapore:20171014T150000
DTEND;TZID=Asia/Singapore:20171015T030000
DESCRIPTION:<p>__________________________________________________</p>\n\n<p
 >Drink Together. Dance Together. Stay Together<br />\n_____________________
 _____________________________</p>\n\n<p>FREE ADMISSION when you sign up via
  the iGO App</p>\n\n<p>Download here:</p>\n\n<p>Android - http://bit.ly/ody
 sseysingapore<br />\niOS - http://bit.ly/odysseysentosa</p>\n\n<p>&ndash\;&
 ndash\;&ndash\;&ndash\;&ndash\;&ndash\;&ndash\;&ndash\;&ndash\;&ndash\;&nda
 sh\;&ndash\;&ndash\;&ndash\;&ndash\;&ndash\;&ndash\;&ndash\;&ndash\;&ndash\
 ;&ndash\;&ndash\;&ndash\;&ndash\;&ndash\;&ndash\;&ndash\;&ndash\;&ndash\;&n
 dash\;&ndash\;&ndash\;&ndash\;&ndash\;&ndash\;&ndash\;</p>\n\n<p>3x3 is a F
 ull Day &amp\; Night Party at Wavehouse Sentosa brought to you by BCube\, C
 ollective Minds\, and iGo. Lasting from 3pm to 3am&hellip\;. expect beach p
 arty vibes\, good music\, and beautiful people.</p>\n\n<p>Food By:</p>\n\n<
 p>21 Sliders<br />\nThe Lab</p>\n\n<p>Our Full Lineup -</p>\n\n<p>Internati
 onal Acts:<br />\nBooka Shade (Live Set)<br />\nThe Magician<br />\nStwo<br
  />\nEli &amp\; Fur</p>\n\n<p>Supporting Acts:<br />\nElectrokat (House Set
 )<br />\nInquisitive<br />\nFyan H x Vanan M<br />\nJasmine Sokko</p>\n\n<p
 >___________________________________________________</p>\n\n<p>Drink Togeth
 er. Dance Together. Stay Together</p>\n
LOCATION:36 Siloso Beach Walk\, Sentosa Island\, SG\, 099007
SUMMARY:Odyssey Presents: 3x3 (Free Entry with Sign Up)
URL:https://www.bandwagon.asia/gigs/odyssey-presents-3x3-free-entry-with-si
 gn-up
END:VEVENT
END:VCALENDAR
