BEGIN:VCALENDAR
VERSION:2.0
PRODID:-//Bandwagon//Gigs//EN
CALSCALE:GREGORIAN
BEGIN:VEVENT
DTSTAMP:20260419T161419Z
UID:a5859890-1901-46e1-b537-2263bbb49833
DTSTART;TZID=Asia/Singapore:20171006T210000
DTEND;TZID=Asia/Singapore:20171007T030000
DESCRIPTION:<p>PHUTURE PRESENTS JAI WOLF<br />\nFRI 6 OCT | PHUTURE<br />\n
 __<br />\nThis October\, we&#39\;re perking up the month with indie-electro
 nic artist\, Jai Wolf. Born in Bangladesh but raised in New York City\, Jai
  Wolf is inspired by everything from hip-hop to classical music to punk roc
 k. Both his life and music have been defined by an amorphous quality that o
 nly a third culture kid could understand.</p>\n\n<p>Jai Wolf was plucked fr
 om obscurity by the talented electronic dance music producer\, DJ\, singer\
 , songwriter and multi-instrumentalist\, Skrillex\, who came across the the
 n-fledging bedroom producer&#39\;s bootleg of &#39\;Ease My Mind&#39\; in 2
 014.</p>\n\n<p>https://soundcloud.com/jaiwolfmusic<br />\n__</p>\n\n<p>Tick
 ets are $50 for non-members.</p>\n
LOCATION:3C River Valley Road\, The Cannery\, Singapore\, SG\, 179022
SUMMARY:Phuture Presents Jai Wolf
URL:https://www.bandwagon.asia/gigs/phuture-presents-jai-wolf
END:VEVENT
END:VCALENDAR
