BEGIN:VCALENDAR
VERSION:2.0
PRODID:-//Bandwagon//Gigs//EN
CALSCALE:GREGORIAN
BEGIN:VEVENT
DTSTAMP:20260425T001804Z
UID:ff6edb44-914a-4b9e-8749-a9b61eb560c0
DTSTART;TZID=Asia/Singapore:20150306T200000
DTEND;TZID=Asia/Singapore:20150306T230000
DESCRIPTION:ZILCH album launch this March 6\, 2015 at the courtyard B-Side\
 , The Collective\, Makati. \n\nFeaturing performances by PUPIL\, Domino\, C
 heats and Manila Under Fire 
LOCATION:7274 Malugay St.\, San Antonio Village\, Makati\, PH
SUMMARY:Pupil Zilch Album Launch
URL:https://www.bandwagon.asia/gigs/pupil-zilch-album-launch
END:VEVENT
END:VCALENDAR
