BEGIN:VCALENDAR
VERSION:2.0
PRODID:-//Bandwagon//Gigs//EN
CALSCALE:GREGORIAN
BEGIN:VEVENT
DTSTAMP:20260419T161854Z
UID:6290ea8f-6db3-439e-955d-5efd786f5c64
DTSTART;TZID=Asia/Singapore:20171018T200000
DTEND;TZID=Asia/Singapore:20171018T223000
DESCRIPTION:<p>LAMC Productions is proud to announce that the Original voic
 e of Skid Row\, Rock legend\, Sebastian Bach\, will perform in Singapore\, 
 as part of his upcoming tour\, on October 18\, 2017 at Kallang Theatre!</p>
 \n\n<p>Bach&rsquo\;s live shows are a non-stop party filled with all the SK
 ID ROW classics such &ndash\; &ldquo\;18 and Life&rdquo\;\, &ldquo\;Youth G
 one Wild&ldquo\;\, &ldquo\;I Remember You&ldquo\;\, &ldquo\;Monkey Business
 &ldquo\;\, &ldquo\;Slave To The Grind&rdquo\; plus more.</p>\n\n<p>DEETS: h
 ttps://www.lamcproductions.com/sebastianbach</p>\n\n<p>Tickets on sale now 
 through the official ticketing agent SISTIC\, at www.sistic.com.sg\, and at
  10am via the SISTIC Hotline (65) 6348-5555 and at all SISTIC Authorised Ag
 ents.</p>\n\n<p>Tickets: S$158*\, S$138*\, S$118*\, S$108* &amp\; S$88*<br 
 />\n*Excluding SISTIC Booking Fee</p>\n\n<p>Follow us on Twitter &amp\; Ins
 tagram for breaking concert news!<br />\nhttp://twitter.com/lamcproductions
 <br />\nhttp://instagram.com/lamcproductions</p>\n\n<p>Subscribe to our You
 Tube channel<br />\nhttp://www.youtube.com/lamcproductions7</p>\n\n<p>Subsc
 ribe to our Newsletter<br />\nhttp://eepurl.com/VvaoD</p>\n\n<p>INVITE YOUR
  FRIENDS TO THIS PAGE!<br />\n1. Click &#39\;Invite&#39\;<br />\n2. Select 
 your friends to invite them.<br />\n3. Hit &#39\;Send Invitations&#39\;</p>
 \n
LOCATION:Stadium Walk\, Singapore\, SG\, 397688
SUMMARY:Sebastian Bach with Special Guests Loudness - Live in Singapore
URL:https://www.bandwagon.asia/gigs/sebastian-bach-with-special-guests-loud
 ness-live-in-singapore
END:VEVENT
END:VCALENDAR
