BEGIN:VCALENDAR
VERSION:2.0
PRODID:-//Bandwagon//Gigs//EN
CALSCALE:GREGORIAN
BEGIN:VEVENT
DTSTAMP:20260419T162447Z
UID:5321f7d9-f8da-4e5d-80a9-f796703b39e6
DTSTART;TZID=Asia/Singapore:20171020T193000
DTEND;TZID=Asia/Singapore:20171020T220000
DESCRIPTION:<p>Early Birds 35 SGD sold out!<br />\nStandard tickets still a
 vailable - don&#39\;t miss out!</p>\n\n<p>&#39\;&#39\;Morningside is what h
 appens when a bedroom pop record gets too big for just a single room\, but 
 all the while never loses its intimacy.&#39\;&#39\; Pitchfork</p>\n\n<p>The
  brainchild of Amelia Murray\, Fazerdaze began as a string of bedroom recor
 dings\, emerging fully formed in 2014 as her debut EP. A succinct collectio
 n of intimate\, beautifully produced dream-pop written.<br />\nThe EP quick
 ly took flight\, receiving critical acclaim from blogs and publications aro
 und the globe. NME described it as &lsquo\;elegant dream pop&rsquo\;.<br />
 \nSince the EP release\, Fazerdaze have shifted to another level and with t
 he release of &lsquo\;Morningside&rsquo\;<br />\n(on legendary NZ label - F
 lying Out ) and have undoubtedly been the indie break out band of the year.
  The single &lsquo\;Lucky Girl&rsquo\; is a gloriously catchy piece of indi
 e-pop\, the sound track to summer &rsquo\;17 for indie kids across the glob
 e. Supporting and touring with acts like Unknown Mortal Orchestra<br />\nHi
  thanks \, Explosions in The Sky and Connan Moccasin and with sold out UK a
 nd US tours\, Fazerdaze&rsquo\;s star is rising fast. They stole the show a
 t both Laneway and Others Ways in<br />\nAfter seeing Fazerdaze perform at 
 Other Ways in New Zealand we knew we were witnessing something very special
  - so Songs for Children and Other Sounds are absolutely thrilled to host t
 heir debut Singapore show!</p>\n\n<p>Facebook: https://www.facebook.com/faz
 erdazemusic/<br />\nTwitter: https://twitter.com/fazerdaze<br />\nYoutube: 
 https://www.youtube.com/channel/UCkA4eurWBbCnncHssSndzgQ Other: https://sou
 ndcloud.com/fazerdaze</p>\n
LOCATION:37\, Geylang Lorong 23\, Singapore\, SG\, Singapore 388371
SUMMARY:SFC and Other Sounds present Fazerdaze live in Singapore
URL:https://www.bandwagon.asia/gigs/sfc-and-other-sounds-present-fazerdaze-
 live-in-singapore
END:VEVENT
END:VCALENDAR
