BEGIN:VCALENDAR
VERSION:2.0
PRODID:-//Bandwagon//Gigs//EN
CALSCALE:GREGORIAN
BEGIN:VEVENT
DTSTAMP:20260423T094856Z
UID:20c93e92-06a7-42c2-b956-c88d0e84f26f
DTSTART;TZID=Asia/Singapore:20170527T190000
DTEND;TZID=Asia/Singapore:20170527T210000
DESCRIPTION:<p><em>27 May 2017 | 7pm &ndash\; 9pm | Concourse (Ground Level
 \, Singapore Chinese Cultural Centre) | Free admission (pre-registration re
 quired)</em></p>\n\n<p><em>Enquiries: 68127208 / events@singaporeccc.org.sg
 </em></p>\n\n<p>Produced by the Artistic Director of the Chingay Parade\, F
 an Dong Kai (范东凯)\, Sing<strong>&bull\;</strong>浪 Concert is the first conc
 ert organised and presented by the Singapore Chinese Cultural Centre.</p>\n
 \n<p>For one night only\, Sing&bull\;浪 Concert will witness Xinyao (新谣) ico
 ns and current pop artistes sharing the same stage performing Xinyao favour
 ites and popular locally composed songs from the 1980s to present day\, re-
 arranged by renowned Music Director\, Goh Kheng Long (吴庆隆). Artiste line-up
  includes Liang Wern Fook (梁文福)\, Pan Ying (潘盈)\, Jiu Jian (玖健)\, Gentle Bo
 nes，MICappella\, Tay Kewei (郑可为)\, Alfred Sim (沈志豪)\, Ling Kai\, Jacky Chew
  (周玮贤) and THELIONCITYBOY.</p>\n\n<p><em>*This is a free standing event.</e
 m></p>\n\n<p><em>*Per registration entitles admission of one person only. M
 ultiple registrations are required for more than one participant.</em></p>\
 n
LOCATION:1 Straits Boulevard\, Singapore\, SG
SUMMARY:SING•浪 CONCERT (ARTISTIC DIRECTOR: FAN DONG KAI | MUSIC DIRECTOR: G
 OH KHENG LONG)
URL:https://www.bandwagon.asia/gigs/sing-concert-artistic-director-fan-dong
 -kai-music-director-goh-kheng-long
END:VEVENT
END:VCALENDAR
