BEGIN:VCALENDAR
VERSION:2.0
PRODID:-//Bandwagon//Gigs//EN
CALSCALE:GREGORIAN
BEGIN:VEVENT
DTSTAMP:20260419T162417Z
UID:39a9a758-5429-4686-b495-bc474318e2c3
DTSTART;TZID=Asia/Singapore:20171027T200000
DTEND;TZID=Asia/Singapore:20171027T220000
DESCRIPTION:<p>Great news for BIGBANG fans!<br />\n<strong>Taeyang</strong>
 &nbsp\;is finally making his way back with&nbsp\;<strong>2017 WORLD TOUR 「W
 HITE NIGHT」 in Singapore.</strong></p>\n\n<p>Being the first member from&nb
 sp\;<strong>BIG BANG</strong>&nbsp\;who has completed his solo World Tour i
 n 2014\, Taeyang has come back with his 2<sup>nd</sup>&nbsp\;World Tour to 
 meet his fans from all over the world.&nbsp\;<strong>TAEYANG 2017 WORLD TOU
 R 「WHITE NIGHT」</strong>has kicked off with a total of six shows in Chiba &
 amp\; Hyogo\, Japan and Seoul in this July. Followed by North America from 
 late-August to with mid-September. Taeyang will then tour to Asia include M
 anila\, Hong Kong\, Bangkok\, Jakarta\, Kuala Lumpur\, Macao\; and then\, T
 aeyang will be heading to Singapore to stage his concert tour on 27 October
 \, 8pm at&nbsp\;The Star Theatre and will end the tour on 29 Oct in Taipei.
 </p>\n\n<p>With the release of his 3<sup>rd</sup>&nbsp\;solo album &#39\;WH
 ITE NIGHT&#39\;&nbsp\;on 16 Aug\, &quot\;WHITE NIGHT&quot\;&nbsp\;has manag
 ed break Taeyang&#39\;s previous record of number of iTunes charts topped N
 o.1 on iTunes album chart in 23 countries including France\, Mexico\, Greec
 e\, Hong Kong\, Singapore\, Taiwan\, Brunei\, Cambodia\, Chile\, Colombia\,
  Denmark\, the Dominican Republic\, Finland\, Indonesia\, Kazakhstan\, Maca
 o\, Malaysia\, Peru\, the Philippines\, Thailand\, the Bahamas\, Turkey\, a
 nd Vietnam as well as U.S.</p>\n\n<p>The two new single&nbsp\;&quot\;<stron
 g>Darling</strong>&quot\; and &quot\;<strong>Wake Me Up</strong>\,&quot\; b
 oth has hit&nbsp\;received impressive response. &quot\;Darling&quot\; is ch
 arted No.1 on the Genie and Olleh Music realtime charts while &quot\;Wake M
 e Up&quot\; at No.1 on the Bugs realtime chart.</p>\n\n<hr />\n<p><strong>O
 rganised by: YS CONTENTS LAND<br />\nPresented by: YG Entertainment，Live Na
 tion<br />\nLocal Partner: UnUsUaL Entertainment</strong></p>\n
LOCATION:1 Vista Exchange Green\, Singapore\, SG\, 138617
SUMMARY:TAEYANG 2017 World Tour 'White Night' in Singapore
URL:https://www.bandwagon.asia/gigs/taeyang-2017-world-tour-white-night-in-
 singapore
END:VEVENT
END:VCALENDAR
