BEGIN:VCALENDAR
VERSION:2.0
PRODID:-//Bandwagon//Gigs//EN
CALSCALE:GREGORIAN
BEGIN:VEVENT
DTSTAMP:20260419T162417Z
UID:518415e5-5a0c-4984-a820-5e9bba0723c9
DTSTART;TZID=Asia/Jakarta:20171209T200000
DTEND;TZID=Asia/Jakarta:20171209T233000
DESCRIPTION:<p>After celebrating their 15th anniversary earlier this year\,
  Boston&#39\;s THE SADDEST LANDSCAPE have finally decided to hit the shores
  of Asia.</p>\n\n<p>With passionate vocals and pummeling musical soundscape
 s\, the band never relents nor wavers as they drag you through a maelstrom 
 of emotion.</p>\n\n<p>Since forming more than a decade ago in 2002\, the ba
 nd has accumulated an extensive discography of over 25 releases that includ
 e seminal splits with scene favorites like Funeral Diner and Trophy Scars. 
 After a brief respite in 2006\, the band reconvened for a few European date
 s in 2008\, which was followed by a self-released vinyl discography (All Is
  Apologized For. All Is Forgiven.) and the full-length\, You Will Not Survi
 ve\, on Panic Records.</p>\n\n<p>Despite its members living hundreds of mil
 es apart\, time and distance has only enhanced The Saddest Landscape&rsquo\
 ;s aggressive vitriol and drive. You Will Not Survive was followed up by sp
 lits with Pianos Become the Teeth and We Were Skeletons\, 2012&#39\;s After
  the Lights LP\, 2013&#39\;s Exit WoundedEP\, a collaborative split release
  with label mates and friends My Fictions and now\, the band&#39\;s fifth s
 tudio LP\, Darkness Forgives\, recorded in 2015 by Defeater&#39\;s Jay Maas
 .</p>\n\n<p>Tickets at: https://www.ticketbox.sg/tsl#/</p>\n\n<p>Venue: Ana
 ki Records (37 Lorong 23 Geylang #07-02 - same building as Decline)</p>\n\n
 <p>with support from:</p>\n\n<p>False Plaintiff<br />\nhttps://falseplainti
 ff.bandcamp.com</p>\n\n<p>Istilah<br />\nhttps://istilah.bandcamp.com</p>\n
 \n<p>Paris In The Making<br />\nhttps://parisinthemaking.bandcamp.com</p>\n
 \n<p>Yumi<br />\nhttps://yumisg.bandcamp.com</p>\n
SUMMARY:The Saddest Landscape Live in Singapore
URL:https://www.bandwagon.asia/gigs/the-saddest-landscape-live-in-singapore
END:VEVENT
END:VCALENDAR
