BEGIN:VCALENDAR
VERSION:2.0
PRODID:-//Bandwagon//Gigs//EN
CALSCALE:GREGORIAN
BEGIN:VEVENT
DTSTAMP:20260422T170543Z
UID:bd3e4bc2-fc9e-4f6d-aa4d-c8251fdbf71a
DTSTART;TZID=Asia/Singapore:20151003T150000
DTEND;TZID=Asia/Singapore:20151004T000000
DESCRIPTION:Back in Singapore for the 2nd time\, Argentinan DJ Adrian Giord
 ano brings his blend of 80s funk\, electro-boogie and old school magic to t
 he beach. Together with duo Silver City\, these rad DJs are bound to satisf
 y all you sunbed-bound\, sunset-lovers. Here’s the chance to get wet by the
  pool\, get dry over a margarita\, and welcome the gorgeous sunset. \n
LOCATION:120 Tanjong Beach Walk\, Sentosa Island\, Singapore\, Singapore\, 
 098942\, Sentosa Island\, SG
SUMMARY:WHITE MAGIC SUNSETS
URL:https://www.bandwagon.asia/gigs/white-magic-sunsets
END:VEVENT
END:VCALENDAR
