BEGIN:VCALENDAR
VERSION:2.0
PRODID:-//Bandwagon//Gigs//EN
CALSCALE:GREGORIAN
BEGIN:VEVENT
DTSTAMP:20260425T104938Z
UID:0ab43c9b-2d08-4e78-b7c1-891fe63cd324
DTSTART;TZID=Asia/Singapore:20150913T180000
DTEND;TZID=Asia/Singapore:20150913T230000
DESCRIPTION:Xibalba & Birds in Row will be dropping by our small little isl
 and this 13 Sept 15 which is on a Sunday.\n\nWith local acts:\n\nLosing End
 \nWeight of the World A.D.\nAstrid\nA.E.S\nBuzzkill (last show?)\n\nDONT WA
 TCH HER SLEEP\, WATCH US BRING THE RUCKUS!!!!
LOCATION:28 Aliwal Street\, SG\, 199918
SUMMARY:Xibalba & Birds in Row 
URL:https://www.bandwagon.asia/gigs/xibalba-birds-in-row
END:VEVENT
END:VCALENDAR
