BEGIN:VCALENDAR
VERSION:2.0
PRODID:-//Bandwagon//Gigs//EN
CALSCALE:GREGORIAN
BEGIN:VEVENT
DTSTAMP:20260419T162036Z
UID:dec643cc-1bfb-47fa-b674-92e552f7c370
DTSTART;TZID=Asia/Singapore:20171208T183000
DTEND;TZID=Asia/Singapore:20171209T040000
DESCRIPTION:<p>One of Asia&rsquo\;s longest running annual dance music fest
 ival\, ZoukOut\, brings Asia&rsquo\;s best nightclub and the 4th ranked nig
 htclub in the world\, Zouk\, to the great outdoors. The festival is also As
 ia&rsquo\;s largest dusk-to-dawn beach festival in the region. Programming 
 for ZoukOut runs over 12 hours with the last night of the two-day festival 
 ending only at 8:00am.</p>\n\n<p>This year marks the 17th edition for ZoukO
 ut with an expected crowd of close to 30\,000 fans expected to descent onto
  Siloso Beach\, Sentosa in Singapore on the 8th &amp\; 9th of December 2017
 . As a pioneer of the dance scene in the region\, ZoukOut has over the year
 s spearheaded the festival and dance music scene by putting together world-
 class stage productions\, immersive experiences and a promise of some of th
 e world&rsquo\;s biggest names in dance music.</p>\n\n<p>Built on the &ldqu
 o\;One World\, One Music\, One Tribe\, One Dance&rdquo\; foundation that Zo
 uk Singapore has been governed by throughout its 26 years of history\, Zouk
 Out was created with the intention of gathering a community of music lovers
  beyond the limitations of an indoor space at one immersive and experientia
 l festival.</p>\n
LOCATION:51 Imbiah Walk\, Sentosa\, Singapore\, Singapore\, SG\, 098996
SUMMARY:ZoukOut 2017 Day 1
URL:https://www.bandwagon.asia/gigs/zoukout-2017
END:VEVENT
END:VCALENDAR
